Package: BioNet Version: 1.71.0 Command: /home/biocbuild/bbs-3.23-bioc/R/bin/R CMD check --install=check:BioNet.install-out.txt --library=/home/biocbuild/bbs-3.23-bioc/R/site-library --timings BioNet_1.71.0.tar.gz StartedAt: 2025-11-05 21:29:13 -0500 (Wed, 05 Nov 2025) EndedAt: 2025-11-05 21:32:29 -0500 (Wed, 05 Nov 2025) EllapsedTime: 196.3 seconds RetCode: 0 Status: OK CheckDir: BioNet.Rcheck Warnings: 0