Package: BioNERO Version: 1.19.0 Command: /home/biocbuild/bbs-3.23-bioc/R/bin/R CMD INSTALL BioNERO StartedAt: 2025-11-05 15:51:46 -0500 (Wed, 05 Nov 2025) EndedAt: 2025-11-05 15:52:23 -0500 (Wed, 05 Nov 2025) EllapsedTime: 37.0 seconds RetCode: 0 Status: OK