Package: BioNERO Version: 1.17.3 Command: /Library/Frameworks/R.framework/Resources/bin/R CMD INSTALL BioNERO StartedAt: 2025-10-09 15:38:48 -0400 (Thu, 09 Oct 2025) EndedAt: 2025-10-09 15:39:39 -0400 (Thu, 09 Oct 2025) EllapsedTime: 50.7 seconds RetCode: 0 Status: OK