Package: BioNERO Version: 1.17.3 Command: /Library/Frameworks/R.framework/Resources/bin/R CMD build --keep-empty-dirs --no-resave-data BioNERO StartedAt: 2025-10-09 16:13:25 -0400 (Thu, 09 Oct 2025) EndedAt: 2025-10-09 16:18:50 -0400 (Thu, 09 Oct 2025) EllapsedTime: 324.8 seconds RetCode: 0 Status: OK PackageFile: BioNERO_1.17.3.tar.gz PackageFileSize: 4.919 MiB