Package: BioNERO Version: 1.17.3 Command: rm -rf BioNERO.buildbin-libdir && mkdir BioNERO.buildbin-libdir && /Users/biocbuild/BBS/utils/build-universal.sh BioNERO_1.17.3.tar.gz /Library/Frameworks/R.framework/Resources/bin/R BioNERO.buildbin-libdir StartedAt: 2025-10-10 02:24:46 -0400 (Fri, 10 Oct 2025) EndedAt: 2025-10-10 02:25:43 -0400 (Fri, 10 Oct 2025) EllapsedTime: 57.4 seconds RetCode: 0 Status: OK PackageFile: BioNERO_1.17.3.tgz PackageFileSize: 5.094 MiB