Package: BioNAR Version: 1.13.2 Command: /home/biocbuild/bbs-3.23-bioc/R/bin/R CMD build --keep-empty-dirs --no-resave-data BioNAR StartedAt: 2025-11-20 16:29:54 -0500 (Thu, 20 Nov 2025) EndedAt: 2025-11-20 16:32:24 -0500 (Thu, 20 Nov 2025) EllapsedTime: 150.1 seconds RetCode: 0 Status: OK PackageFile: BioNAR_1.13.2.tar.gz PackageFileSize: 3.488 MiB