Package: BioNAR Version: 1.11.0 Command: /Library/Frameworks/R.framework/Resources/bin/R CMD build --keep-empty-dirs --no-resave-data BioNAR StartedAt: 2025-10-08 16:17:14 -0400 (Wed, 08 Oct 2025) EndedAt: 2025-10-08 16:19:50 -0400 (Wed, 08 Oct 2025) EllapsedTime: 156.4 seconds RetCode: 0 Status: OK PackageFile: BioNAR_1.11.0.tar.gz PackageFileSize: 3.538 MiB