Package: BioMVCClass Version: 1.79.0 Command: /home/biocbuild/bbs-3.23-bioc/R/bin/R CMD INSTALL BioMVCClass StartedAt: 2025-11-02 15:21:19 -0500 (Sun, 02 Nov 2025) EndedAt: 2025-11-02 15:21:23 -0500 (Sun, 02 Nov 2025) EllapsedTime: 4.0 seconds RetCode: 0 Status: OK