Package: BioMVCClass Version: 1.79.0 Command: /home/biocbuild/bbs-3.23-bioc/R/bin/R CMD build --keep-empty-dirs --no-resave-data BioMVCClass StartedAt: 2025-11-02 16:34:19 -0500 (Sun, 02 Nov 2025) EndedAt: 2025-11-02 16:34:26 -0500 (Sun, 02 Nov 2025) EllapsedTime: 7.0 seconds RetCode: 0 Status: OK PackageFile: BioMVCClass_1.79.0.tar.gz PackageFileSize: 131.3 KiB