Package: BioGA Version: 1.3.0 Command: /home/biocbuild/R/R/bin/R CMD build --keep-empty-dirs --no-resave-data BioGA StartedAt: 2025-10-06 22:11:29 -0000 (Mon, 06 Oct 2025) EndedAt: 2025-10-06 22:12:44 -0000 (Mon, 06 Oct 2025) EllapsedTime: 75.0 seconds RetCode: 0 Status: OK PackageFile: BioGA_1.3.0.tar.gz PackageFileSize: 334.9 KiB