Package: BioCor Version: 1.33.1 Command: /home/biocbuild/bbs-3.22-bioc/R/bin/R CMD check --install=check:BioCor.install-out.txt --library=/home/biocbuild/bbs-3.22-bioc/R/site-library --timings BioCor_1.33.1.tar.gz StartedAt: 2025-10-16 22:34:30 -0400 (Thu, 16 Oct 2025) EndedAt: 2025-10-16 22:40:09 -0400 (Thu, 16 Oct 2025) EllapsedTime: 339.4 seconds RetCode: 1 Status: ERROR CheckDir: BioCor.Rcheck Warnings: NA