Package: BioCor Version: 1.35.0 Command: /home/biocbuild/bbs-3.23-bioc/R/bin/R CMD INSTALL BioCor StartedAt: 2025-11-07 15:30:59 -0500 (Fri, 07 Nov 2025) EndedAt: 2025-11-07 15:31:18 -0500 (Fri, 07 Nov 2025) EllapsedTime: 18.8 seconds RetCode: 0 Status: OK