Package: BioCartaImage Version: 1.7.0 Command: /home/biocbuild/R/R/bin/R CMD INSTALL BioCartaImage StartedAt: 2025-10-02 20:18:06 -0000 (Thu, 02 Oct 2025) EndedAt: 2025-10-02 20:18:38 -0000 (Thu, 02 Oct 2025) EllapsedTime: 32.1 seconds RetCode: 0 Status: OK