Package: BioCartaImage Version: 1.7.0 Command: /home/biocbuild/R/R/bin/R CMD build --keep-empty-dirs --no-resave-data BioCartaImage StartedAt: 2025-10-02 22:18:05 -0000 (Thu, 02 Oct 2025) EndedAt: 2025-10-02 22:18:22 -0000 (Thu, 02 Oct 2025) EllapsedTime: 17.0 seconds RetCode: 0 Status: OK PackageFile: BioCartaImage_1.7.0.tar.gz PackageFileSize: 1.994 MiB