Package: BioCartaImage Version: 1.9.0 Command: /home/biocbuild/bbs-3.23-bioc/R/bin/R CMD INSTALL BioCartaImage StartedAt: 2025-10-31 15:11:01 -0400 (Fri, 31 Oct 2025) EndedAt: 2025-10-31 15:11:19 -0400 (Fri, 31 Oct 2025) EllapsedTime: 18.1 seconds RetCode: 0 Status: OK