Package: BioCartaImage Version: 1.9.0 Command: /home/biocbuild/bbs-3.23-bioc/R/bin/R CMD check --install=check:BioCartaImage.install-out.txt --library=/home/biocbuild/bbs-3.23-bioc/R/site-library --timings BioCartaImage_1.9.0.tar.gz StartedAt: 2025-10-31 21:28:07 -0400 (Fri, 31 Oct 2025) EndedAt: 2025-10-31 21:28:40 -0400 (Fri, 31 Oct 2025) EllapsedTime: 33.1 seconds RetCode: 0 Status: OK CheckDir: BioCartaImage.Rcheck Warnings: 0