Package: BioCartaImage Version: 1.9.0 Command: /home/biocbuild/bbs-3.23-bioc/R/bin/R CMD build --keep-empty-dirs --no-resave-data BioCartaImage StartedAt: 2025-10-31 16:43:52 -0400 (Fri, 31 Oct 2025) EndedAt: 2025-10-31 16:44:03 -0400 (Fri, 31 Oct 2025) EllapsedTime: 11.0 seconds RetCode: 0 Status: OK PackageFile: BioCartaImage_1.9.0.tar.gz PackageFileSize: 3.628 MiB