Package: BindingSiteFinder Version: 2.9.0 Command: /home/biocbuild/bbs-3.23-bioc/R/bin/R CMD INSTALL BindingSiteFinder StartedAt: 2025-11-04 15:38:35 -0500 (Tue, 04 Nov 2025) EndedAt: 2025-11-04 15:39:20 -0500 (Tue, 04 Nov 2025) EllapsedTime: 45.8 seconds RetCode: 0 Status: OK