Package: BindingSiteFinder Version: 2.7.1 Command: /Library/Frameworks/R.framework/Resources/bin/R CMD INSTALL BindingSiteFinder StartedAt: 2025-10-12 15:35:59 -0400 (Sun, 12 Oct 2025) EndedAt: 2025-10-12 15:37:03 -0400 (Sun, 12 Oct 2025) EllapsedTime: 63.7 seconds RetCode: 0 Status: OK