Package: BindingSiteFinder Version: 2.7.1 Command: /Library/Frameworks/R.framework/Resources/bin/R CMD build --keep-empty-dirs --no-resave-data BindingSiteFinder StartedAt: 2025-10-12 16:10:30 -0400 (Sun, 12 Oct 2025) EndedAt: 2025-10-12 16:14:13 -0400 (Sun, 12 Oct 2025) EllapsedTime: 222.2 seconds RetCode: 0 Status: OK PackageFile: BindingSiteFinder_2.7.1.tar.gz PackageFileSize: 2.771 MiB