Package: BindingSiteFinder Version: 2.7.1 Maintainer: Mirko Brüggemann MaintainerEmail: mirko.brueggemann at mail.de git_url: https://git.bioconductor.org/packages/BindingSiteFinder git_branch: devel git_last_commit: c9c0024 git_last_commit_date: 2025-06-21 19:17:25 -0400 (Sat, 21 Jun 2025)