Package: BicARE Version: 1.69.0 Command: /home/biocbuild/bbs-3.23-bioc/R/bin/R CMD INSTALL BicARE StartedAt: 2025-11-02 15:44:40 -0500 (Sun, 02 Nov 2025) EndedAt: 2025-11-02 15:44:59 -0500 (Sun, 02 Nov 2025) EllapsedTime: 18.7 seconds RetCode: 0 Status: OK