Package: BicARE Version: 1.69.0 Command: /home/biocbuild/bbs-3.23-bioc/R/bin/R CMD build --keep-empty-dirs --no-resave-data BicARE StartedAt: 2025-11-02 16:30:22 -0500 (Sun, 02 Nov 2025) EndedAt: 2025-11-02 16:32:37 -0500 (Sun, 02 Nov 2025) EllapsedTime: 135.1 seconds RetCode: 0 Status: OK PackageFile: BicARE_1.69.0.tar.gz PackageFileSize: 460 KiB