Package: BicARE Version: 1.69.0 Command: /Library/Frameworks/R.framework/Resources/bin/R CMD build --keep-empty-dirs --no-resave-data BicARE StartedAt: 2025-11-21 16:13:15 -0500 (Fri, 21 Nov 2025) EndedAt: 2025-11-21 16:16:08 -0500 (Fri, 21 Nov 2025) EllapsedTime: 173.1 seconds RetCode: 0 Status: OK PackageFile: BicARE_1.69.0.tar.gz PackageFileSize: 459.5 KiB