Package: BicARE Version: 1.69.0 Command: /Library/Frameworks/R.framework/Resources/bin/R CMD INSTALL BicARE StartedAt: 2025-11-21 15:20:05 -0500 (Fri, 21 Nov 2025) EndedAt: 2025-11-21 15:20:12 -0500 (Fri, 21 Nov 2025) EllapsedTime: 7.5 seconds RetCode: 0 Status: OK