Package: BicARE Version: 1.69.0 Command: /Library/Frameworks/R.framework/Resources/bin/R CMD build --keep-empty-dirs --no-resave-data BicARE StartedAt: 2025-11-21 15:43:47 -0500 (Fri, 21 Nov 2025) EndedAt: 2025-11-21 15:44:36 -0500 (Fri, 21 Nov 2025) EllapsedTime: 48.5 seconds RetCode: 0 Status: OK PackageFile: BicARE_1.69.0.tar.gz PackageFileSize: 460.1 KiB