Package: BicARE Version: 1.69.0 Command: rm -rf BicARE.buildbin-libdir && mkdir BicARE.buildbin-libdir && /Users/biocbuild/BBS/utils/build-universal.sh BicARE_1.69.0.tar.gz /Library/Frameworks/R.framework/Resources/bin/R BicARE.buildbin-libdir StartedAt: 2025-11-21 23:23:34 -0500 (Fri, 21 Nov 2025) EndedAt: 2025-11-21 23:23:44 -0500 (Fri, 21 Nov 2025) EllapsedTime: 10.2 seconds RetCode: 0 Status: OK PackageFile: BicARE_1.69.0.tgz PackageFileSize: 506.3 KiB