Package: BiSeq Version: 1.49.1 Command: /home/biocbuild/R/R/bin/R CMD INSTALL BiSeq StartedAt: 2025-10-13 21:05:41 -0000 (Mon, 13 Oct 2025) EndedAt: 2025-10-13 21:06:35 -0000 (Mon, 13 Oct 2025) EllapsedTime: 53.6 seconds RetCode: 0 Status: OK