Package: BiSeq Version: 1.49.1 Command: /home/biocbuild/R/R/bin/R CMD build --keep-empty-dirs --no-resave-data BiSeq StartedAt: 2025-10-13 22:44:59 -0000 (Mon, 13 Oct 2025) EndedAt: 2025-10-13 22:47:33 -0000 (Mon, 13 Oct 2025) EllapsedTime: 154.0 seconds RetCode: 0 Status: OK PackageFile: BiSeq_1.49.1.tar.gz PackageFileSize: 909.1 KiB