Package: BiSeq Version: 1.49.1 Command: chmod a+r BiSeq -R && F:\biocbuild\bbs-3.22-bioc\R\bin\R.exe CMD build --keep-empty-dirs --no-resave-data BiSeq StartedAt: 2025-08-14 18:48:40 -0400 (Thu, 14 Aug 2025) EndedAt: 2025-08-14 18:51:44 -0400 (Thu, 14 Aug 2025) EllapsedTime: 183.9 seconds RetCode: 0 Status: OK PackageFile: BiSeq_1.49.1.tar.gz PackageFileSize: 917.3 KiB