Package: BiSeq Version: 1.49.1 Command: /home/biocbuild/bbs-3.22-bioc/R/bin/R CMD check --install=check:BiSeq.install-out.txt --library=/home/biocbuild/bbs-3.22-bioc/R/site-library --timings BiSeq_1.49.1.tar.gz StartedAt: 2025-09-30 21:36:34 -0400 (Tue, 30 Sep 2025) EndedAt: 2025-09-30 21:45:26 -0400 (Tue, 30 Sep 2025) EllapsedTime: 531.9 seconds RetCode: 0 Status: OK CheckDir: BiSeq.Rcheck Warnings: 0