Package: BiSeq Version: 1.51.0 Command: /home/biocbuild/bbs-3.23-bioc/R/bin/R CMD INSTALL BiSeq StartedAt: 2025-11-05 15:36:13 -0500 (Wed, 05 Nov 2025) EndedAt: 2025-11-05 15:36:53 -0500 (Wed, 05 Nov 2025) EllapsedTime: 39.8 seconds RetCode: 0 Status: OK