Package: BiRewire Version: 3.43.0 Command: /home/biocbuild/bbs-3.23-bioc/R/bin/R CMD INSTALL BiRewire StartedAt: 2025-11-20 15:04:54 -0500 (Thu, 20 Nov 2025) EndedAt: 2025-11-20 15:05:16 -0500 (Thu, 20 Nov 2025) EllapsedTime: 21.9 seconds RetCode: 0 Status: OK