Package: BiRewire Version: 3.43.0 Command: /home/biocbuild/bbs-3.23-bioc/R/bin/R CMD build --keep-empty-dirs --no-resave-data BiRewire StartedAt: 2025-11-20 16:30:49 -0500 (Thu, 20 Nov 2025) EndedAt: 2025-11-20 16:30:59 -0500 (Thu, 20 Nov 2025) EllapsedTime: 10.0 seconds RetCode: 1 Status: ERROR PackageFile: None PackageFileSize: NA