Package: BiRewire Version: 3.41.0 Command: /Library/Frameworks/R.framework/Resources/bin/R CMD INSTALL BiRewire StartedAt: 2025-10-14 15:08:13 -0400 (Tue, 14 Oct 2025) EndedAt: 2025-10-14 15:09:04 -0400 (Tue, 14 Oct 2025) EllapsedTime: 51.0 seconds RetCode: 0 Status: OK