Package: BiRewire Version: 3.41.0 Command: /Library/Frameworks/R.framework/Resources/bin/R CMD build --keep-empty-dirs --no-resave-data BiRewire StartedAt: 2025-10-14 16:15:39 -0400 (Tue, 14 Oct 2025) EndedAt: 2025-10-14 16:15:51 -0400 (Tue, 14 Oct 2025) EllapsedTime: 12.5 seconds RetCode: 1 Status: ERROR PackageFile: None PackageFileSize: NA