Package: BiRewire Version: 3.41.0 Command: rm -rf BiRewire.buildbin-libdir && mkdir BiRewire.buildbin-libdir && /Users/biocbuild/BBS/utils/build-universal.sh BiRewire_3.41.0.tar.gz /Library/Frameworks/R.framework/Resources/bin/R BiRewire.buildbin-libdir StartedAt: 2025-10-13 02:22:49 -0400 (Mon, 13 Oct 2025) EndedAt: 2025-10-13 02:23:05 -0400 (Mon, 13 Oct 2025) EllapsedTime: 16.1 seconds RetCode: 0 Status: OK PackageFile: BiRewire_3.41.0.tgz PackageFileSize: 741.6 KiB