Package: BiRewire Version: 3.43.0 Maintainer: Andrea Gobbi MaintainerEmail: gobbi.andrea at mail.com git_url: https://git.bioconductor.org/packages/BiRewire git_branch: devel git_last_commit: 0a52927 git_last_commit_date: 2025-10-29 10:16:24 -0400 (Wed, 29 Oct 2025)