Package: BiFET Version: 1.31.0 Command: /home/biocbuild/bbs-3.23-bioc/R/bin/R CMD INSTALL BiFET StartedAt: 2025-11-20 15:16:37 -0500 (Thu, 20 Nov 2025) EndedAt: 2025-11-20 15:16:45 -0500 (Thu, 20 Nov 2025) EllapsedTime: 7.4 seconds RetCode: 0 Status: OK