Package: BiFET Version: 1.31.0 Command: /home/biocbuild/bbs-3.23-bioc/R/bin/R CMD build --keep-empty-dirs --no-resave-data BiFET StartedAt: 2025-11-20 16:25:55 -0500 (Thu, 20 Nov 2025) EndedAt: 2025-11-20 16:26:46 -0500 (Thu, 20 Nov 2025) EllapsedTime: 51.0 seconds RetCode: 0 Status: OK PackageFile: BiFET_1.31.0.tar.gz PackageFileSize: 641.8 KiB