Package: BiFET Version: 1.29.1 Command: /Library/Frameworks/R.framework/Resources/bin/R CMD INSTALL BiFET StartedAt: 2025-10-23 15:18:23 -0400 (Thu, 23 Oct 2025) EndedAt: 2025-10-23 15:18:38 -0400 (Thu, 23 Oct 2025) EllapsedTime: 14.5 seconds RetCode: 0 Status: OK