Package: BiFET Version: 1.29.1 Command: /Library/Frameworks/R.framework/Resources/bin/R CMD build --keep-empty-dirs --no-resave-data BiFET StartedAt: 2025-10-22 16:08:57 -0400 (Wed, 22 Oct 2025) EndedAt: 2025-10-22 16:09:57 -0400 (Wed, 22 Oct 2025) EllapsedTime: 59.3 seconds RetCode: 0 Status: OK PackageFile: BiFET_1.29.1.tar.gz PackageFileSize: 641.8 KiB