Package: BiFET Version: 1.29.1 Command: rm -rf BiFET.buildbin-libdir && mkdir BiFET.buildbin-libdir && /Users/biocbuild/BBS/utils/build-universal.sh BiFET_1.29.1.tar.gz /Library/Frameworks/R.framework/Resources/bin/R BiFET.buildbin-libdir StartedAt: 2025-10-24 01:23:34 -0400 (Fri, 24 Oct 2025) EndedAt: 2025-10-24 01:23:48 -0400 (Fri, 24 Oct 2025) EllapsedTime: 13.8 seconds RetCode: 0 Status: OK PackageFile: BiFET_1.29.1.tgz PackageFileSize: 657.9 KiB