Package: BgeeDB Version: 2.37.0 Command: /home/biocbuild/bbs-3.23-bioc/R/bin/R CMD INSTALL BgeeDB StartedAt: 2025-11-05 15:46:18 -0500 (Wed, 05 Nov 2025) EndedAt: 2025-11-05 15:46:55 -0500 (Wed, 05 Nov 2025) EllapsedTime: 36.9 seconds RetCode: 0 Status: OK