Package: BgeeDB Version: 2.37.0 Command: /home/biocbuild/bbs-3.23-bioc/R/bin/R CMD build --keep-empty-dirs --no-resave-data BgeeDB StartedAt: 2025-11-05 16:31:22 -0500 (Wed, 05 Nov 2025) EndedAt: 2025-11-05 16:36:58 -0500 (Wed, 05 Nov 2025) EllapsedTime: 336.3 seconds RetCode: 0 Status: OK PackageFile: BgeeDB_2.37.0.tar.gz PackageFileSize: 107 KiB