Package: BgeeDB Version: 2.35.1 Command: /Library/Frameworks/R.framework/Resources/bin/R CMD INSTALL BgeeDB StartedAt: 2025-10-15 15:34:50 -0400 (Wed, 15 Oct 2025) EndedAt: 2025-10-15 15:35:43 -0400 (Wed, 15 Oct 2025) EllapsedTime: 52.3 seconds RetCode: 0 Status: OK