Package: BgeeDB Version: 2.35.1 Command: rm -rf BgeeDB.buildbin-libdir && mkdir BgeeDB.buildbin-libdir && /Users/biocbuild/BBS/utils/build-universal.sh BgeeDB_2.35.1.tar.gz /Library/Frameworks/R.framework/Resources/bin/R BgeeDB.buildbin-libdir StartedAt: 2025-10-16 02:42:01 -0400 (Thu, 16 Oct 2025) EndedAt: 2025-10-16 02:42:57 -0400 (Thu, 16 Oct 2025) EllapsedTime: 56.0 seconds RetCode: 0 Status: OK PackageFile: BgeeDB_2.35.1.tgz PackageFileSize: 370.6 KiB