Package: BgeeCall Version: 1.27.0 Command: /home/biocbuild/bbs-3.23-bioc/R/bin/R CMD INSTALL BgeeCall StartedAt: 2025-11-05 15:50:42 -0500 (Wed, 05 Nov 2025) EndedAt: 2025-11-05 15:50:53 -0500 (Wed, 05 Nov 2025) EllapsedTime: 11.9 seconds RetCode: 1 Status: ERROR