############################################################################## ############################################################################## ### ### Running command: ### ### /home/biocbuild/bbs-3.23-bioc/R/bin/R CMD INSTALL BgeeCall ### ############################################################################## ############################################################################## * installing to library ‘/home/biocbuild/bbs-3.23-bioc/R/site-library’ * installing *source* package ‘BgeeCall’ ... ** this is package ‘BgeeCall’ version ‘1.27.0’ ** using staged installation ** R ** inst ** byte-compile and prepare package for lazy loading Error: object ‘makeTxDbFromGFF’ is not exported by 'namespace:GenomicFeatures' Execution halted ERROR: lazy loading failed for package ‘BgeeCall’ * removing ‘/home/biocbuild/bbs-3.23-bioc/R/site-library/BgeeCall’ * restoring previous ‘/home/biocbuild/bbs-3.23-bioc/R/site-library/BgeeCall’