############################################################################## ############################################################################## ### ### Running command: ### ### /home/biocbuild/bbs-3.23-bioc/R/bin/R CMD build --keep-empty-dirs --no-resave-data BgeeCall ### ############################################################################## ############################################################################## * checking for file ‘BgeeCall/DESCRIPTION’ ... OK * preparing ‘BgeeCall’: * checking DESCRIPTION meta-information ... OK * installing the package (it is needed to build vignettes) ----------------------------------- * installing *source* package ‘BgeeCall’ ... ** this is package ‘BgeeCall’ version ‘1.27.0’ ** using staged installation ** R ** inst ** byte-compile and prepare package for lazy loading Error: object ‘makeTxDbFromGFF’ is not exported by 'namespace:GenomicFeatures' Execution halted ERROR: lazy loading failed for package ‘BgeeCall’ * removing ‘/tmp/RtmpqGeaZH/Rinst13d9a6bf853e8/BgeeCall’ ----------------------------------- ERROR: package installation failed